BEGIN:VCALENDAR
VERSION:2.0
PRODID:-//Fellowship Baptist Church - ECPv6.15.20//NONSGML v1.0//EN
CALSCALE:GREGORIAN
METHOD:PUBLISH
X-ORIGINAL-URL:https://fbcwttn.org
X-WR-CALDESC:Events for Fellowship Baptist Church
REFRESH-INTERVAL;VALUE=DURATION:PT1H
X-Robots-Tag:noindex
X-PUBLISHED-TTL:PT1H
BEGIN:VTIMEZONE
TZID:America/Chicago
BEGIN:DAYLIGHT
TZOFFSETFROM:-0600
TZOFFSETTO:-0500
TZNAME:CDT
DTSTART:20240310T080000
END:DAYLIGHT
BEGIN:STANDARD
TZOFFSETFROM:-0500
TZOFFSETTO:-0600
TZNAME:CST
DTSTART:20241103T070000
END:STANDARD
BEGIN:DAYLIGHT
TZOFFSETFROM:-0600
TZOFFSETTO:-0500
TZNAME:CDT
DTSTART:20250309T080000
END:DAYLIGHT
BEGIN:STANDARD
TZOFFSETFROM:-0500
TZOFFSETTO:-0600
TZNAME:CST
DTSTART:20251102T070000
END:STANDARD
BEGIN:DAYLIGHT
TZOFFSETFROM:-0600
TZOFFSETTO:-0500
TZNAME:CDT
DTSTART:20260308T080000
END:DAYLIGHT
BEGIN:STANDARD
TZOFFSETFROM:-0500
TZOFFSETTO:-0600
TZNAME:CST
DTSTART:20261101T070000
END:STANDARD
BEGIN:DAYLIGHT
TZOFFSETFROM:-0600
TZOFFSETTO:-0500
TZNAME:CDT
DTSTART:20270314T080000
END:DAYLIGHT
BEGIN:STANDARD
TZOFFSETFROM:-0500
TZOFFSETTO:-0600
TZNAME:CST
DTSTART:20271107T070000
END:STANDARD
END:VTIMEZONE
BEGIN:VEVENT
DTSTART;VALUE=DATE:20260419
DTEND;VALUE=DATE:20260420
DTSTAMP:20260425T083636
CREATED:20260413T004800Z
LAST-MODIFIED:20260413T004800Z
UID:11458-1776556800-1776643199@fbcwttn.org
SUMMARY:PM-Summer Missions presentations
DESCRIPTION:
URL:https://fbcwttn.org/event/pm-summer-missions-presentations/
END:VEVENT
BEGIN:VEVENT
DTSTART;TZID=America/Chicago:20260405T084500
DTEND;TZID=America/Chicago:20260405T094000
DTSTAMP:20260425T083636
CREATED:20260322T020644Z
LAST-MODIFIED:20260322T020644Z
UID:11411-1775378700-1775382000@fbcwttn.org
SUMMARY:Easter Breakfast
DESCRIPTION:ABF & Sunday school classes begin at 9:45 a.m.
URL:https://fbcwttn.org/event/easter-breakfast-5/
END:VEVENT
BEGIN:VEVENT
DTSTART;VALUE=DATE:20260405
DTEND;VALUE=DATE:20260406
DTSTAMP:20260425T083636
CREATED:20260322T020712Z
LAST-MODIFIED:20260322T020712Z
UID:11413-1775347200-1775433599@fbcwttn.org
SUMMARY:PM-Teen service
DESCRIPTION:
URL:https://fbcwttn.org/event/pm-teen-service-2/
END:VEVENT
BEGIN:VEVENT
DTSTART;TZID=America/Chicago:20260329T150000
DTEND;TZID=America/Chicago:20260329T160000
DTSTAMP:20260425T083636
CREATED:20260307T223629Z
LAST-MODIFIED:20260314T192649Z
UID:11385-1774796400-1774800000@fbcwttn.org
SUMMARY:Hershberger Memorial Service
DESCRIPTION:A memorial service for Mrs. Barbara Hershberger will be held on March 29 at 3:00 p.m.  Light refreshments will be served downstairs after the service.  There will be no formal visiting hours.
URL:https://fbcwttn.org/event/hershberger-memorial-service/
END:VEVENT
BEGIN:VEVENT
DTSTART;TZID=America/Chicago:20260321T120000
DTEND;TZID=America/Chicago:20260321T140000
DTSTAMP:20260425T083636
CREATED:20260228T204554Z
LAST-MODIFIED:20260228T204554Z
UID:11373-1774094400-1774101600@fbcwttn.org
SUMMARY:All-Church Bowling
DESCRIPTION:@ Watertown North Bowl \nCost is $4 per game.
URL:https://fbcwttn.org/event/all-church-bowling-2/
END:VEVENT
BEGIN:VEVENT
DTSTART;VALUE=DATE:20260315
DTEND;VALUE=DATE:20260316
DTSTAMP:20260425T083636
CREATED:20260314T194940Z
LAST-MODIFIED:20260314T195058Z
UID:11398-1773532800-1773619199@fbcwttn.org
SUMMARY:PM-No evening service
DESCRIPTION:There will be no evening service today in light of the potentially inclement weather then as well as the need to clear out the auditorium before Monday morning.
URL:https://fbcwttn.org/event/no-evening-service/
END:VEVENT
BEGIN:VEVENT
DTSTART;TZID=America/Chicago:20260314T140000
DTEND;TZID=America/Chicago:20260314T160000
DTSTAMP:20260425T083636
CREATED:20260228T204443Z
LAST-MODIFIED:20260228T204511Z
UID:11370-1773496800-1773504000@fbcwttn.org
SUMMARY:Baby shower for Racquelle M.
DESCRIPTION:“A Little One Is Sprouting”  -April Huff. \nRacquelle is registered at Amazon.com.
URL:https://fbcwttn.org/event/baby-shower-for-racquelle-m/
END:VEVENT
BEGIN:VEVENT
DTSTART;TZID=America/Chicago:20260228T090000
DTEND;TZID=America/Chicago:20260228T150000
DTSTAMP:20260425T083636
CREATED:20260207T032953Z
LAST-MODIFIED:20260207T032953Z
UID:11315-1772269200-1772290800@fbcwttn.org
SUMMARY:WI State Youth Conference
DESCRIPTION:Hosted by Calvary Baptist\, Watertown \nEvangelist Brent Sivnksty
URL:https://fbcwttn.org/event/wi-state-youth-conference/
END:VEVENT
BEGIN:VEVENT
DTSTART;VALUE=DATE:20260215
DTEND;VALUE=DATE:20260216
DTSTAMP:20260425T083636
CREATED:20260201T042300Z
LAST-MODIFIED:20260201T042300Z
UID:11276-1771113600-1771199999@fbcwttn.org
SUMMARY:PM-Quarterly Members Meeting
DESCRIPTION:
URL:https://fbcwttn.org/event/pm-quarterly-members-meeting-6/
END:VEVENT
BEGIN:VEVENT
DTSTART;TZID=America/Chicago:20260206T190000
DTEND;TZID=America/Chicago:20260206T200000
DTSTAMP:20260425T083636
CREATED:20260201T041921Z
LAST-MODIFIED:20260201T041921Z
UID:11271-1770404400-1770408000@fbcwttn.org
SUMMARY:"The Life of Gladys Aylward" @ Watertown Players Theatre
DESCRIPTION:FBC’s Drama Ministry Team presenting a one-act drama on Glady Aylward\, a missionary to China in the mid-twentieth century.
URL:https://fbcwttn.org/event/the-life-of-gladys-aylward-watertown-players-theatre/
END:VEVENT
BEGIN:VEVENT
DTSTART;TZID=America/Chicago:20260202T190000
DTEND;TZID=America/Chicago:20260202T200000
DTSTAMP:20260425T083636
CREATED:20260201T041534Z
LAST-MODIFIED:20260201T041602Z
UID:11267-1770058800-1770062400@fbcwttn.org
SUMMARY:"1-A-Chord" Men's Quartet
DESCRIPTION:“1-A-Chord\,” a men’s quartet\, will be singing both fun and sacred selections!  Sponsored by the Watertown Euterpe Club.
URL:https://fbcwttn.org/event/1-a-chord-mens-quartet/
END:VEVENT
BEGIN:VEVENT
DTSTART;TZID=America/Chicago:20260201T180000
DTEND;TZID=America/Chicago:20260201T190000
DTSTAMP:20260425T083636
CREATED:20260201T041313Z
LAST-MODIFIED:20260201T041703Z
UID:11264-1769968800-1769972400@fbcwttn.org
SUMMARY:Drama Ministry Team-"The Life of Gladys Aylward"
DESCRIPTION:Gladys Aylward was a British missionary to China in the mid-twentieth century.
URL:https://fbcwttn.org/event/drama-ministry-presentation-gladys-aylward/
END:VEVENT
BEGIN:VEVENT
DTSTART;TZID=America/Chicago:20260131T080000
DTEND;TZID=America/Chicago:20260131T170000
DTSTAMP:20260425T083636
CREATED:20260201T042035Z
LAST-MODIFIED:20260201T042035Z
UID:11273-1769846400-1769878800@fbcwttn.org
SUMMARY:"The Life of Gladys Aylward" @ Watertown Players Theatre
DESCRIPTION:FBC’s Drama Ministry Team will present a one-act drama on the life of Gladys Aylward\, a British missionary to China in the mid-twentieth century.
URL:https://fbcwttn.org/event/the-life-of-gladys-aylward-watertown-players-theatre-2/
END:VEVENT
BEGIN:VEVENT
DTSTART;TZID=America/Chicago:20260121T190000
DTEND;TZID=America/Chicago:20260121T200000
DTSTAMP:20260425T083636
CREATED:20260109T175547Z
LAST-MODIFIED:20260109T175547Z
UID:11184-1769022000-1769025600@fbcwttn.org
SUMMARY:Teen Time resumes
DESCRIPTION:
URL:https://fbcwttn.org/event/teen-time-resumes-2/
END:VEVENT
BEGIN:VEVENT
DTSTART;TZID=America/Chicago:20260117T080000
DTEND;TZID=America/Chicago:20260117T093000
DTSTAMP:20260425T083636
CREATED:20260109T175633Z
LAST-MODIFIED:20260109T175633Z
UID:11186-1768636800-1768642200@fbcwttn.org
SUMMARY:Men's meeting
DESCRIPTION:
URL:https://fbcwttn.org/event/mens-meeting-18/
END:VEVENT
BEGIN:VEVENT
DTSTART;TZID=America/Chicago:20260114T190000
DTEND;TZID=America/Chicago:20260114T200000
DTSTAMP:20260425T083636
CREATED:20260109T175520Z
LAST-MODIFIED:20260109T175520Z
UID:11182-1768417200-1768420800@fbcwttn.org
SUMMARY:Kids4Truth resumes
DESCRIPTION:
URL:https://fbcwttn.org/event/kids4truth-resumes-7/
END:VEVENT
BEGIN:VEVENT
DTSTART;VALUE=DATE:20260104
DTEND;VALUE=DATE:20260105
DTSTAMP:20260425T083636
CREATED:20251226T001529Z
LAST-MODIFIED:20251226T001529Z
UID:11164-1767484800-1767571199@fbcwttn.org
SUMMARY:No ABF/Sunday school today
DESCRIPTION:Join us for worship at 10:30 a.m. today!
URL:https://fbcwttn.org/event/no-abf-sunday-school-today-2/
END:VEVENT
BEGIN:VEVENT
DTSTART;TZID=America/Chicago:20251231T210000
DTEND;TZID=America/Chicago:20260101T070000
DTSTAMP:20260425T083636
CREATED:20251221T045458Z
LAST-MODIFIED:20251221T045458Z
UID:11160-1767214800-1767250800@fbcwttn.org
SUMMARY:Teens-NYE All-Nighter
DESCRIPTION:combining with Calvary Baptist\, Watertown \nCost is $40 per teen. \nParents must sign waiver with Urban Air in Waukesha.
URL:https://fbcwttn.org/event/teens-nye-all-nighter/
END:VEVENT
BEGIN:VEVENT
DTSTART;VALUE=DATE:20251228
DTEND;VALUE=DATE:20251229
DTSTAMP:20260425T083636
CREATED:20251226T001443Z
LAST-MODIFIED:20251226T001443Z
UID:11162-1766880000-1766966399@fbcwttn.org
SUMMARY:No ABF/Sunday school today
DESCRIPTION:Join us in worship at 10:30 a.m. today!
URL:https://fbcwttn.org/event/no-abf-sunday-school-today/
END:VEVENT
BEGIN:VEVENT
DTSTART;TZID=America/Chicago:20251224T170000
DTEND;TZID=America/Chicago:20251224T180000
DTSTAMP:20260425T083636
CREATED:20251221T045236Z
LAST-MODIFIED:20251221T045236Z
UID:11158-1766595600-1766599200@fbcwttn.org
SUMMARY:Christmas Eve service
DESCRIPTION:
URL:https://fbcwttn.org/event/christmas-eve-service-9/
END:VEVENT
BEGIN:VEVENT
DTSTART;TZID=America/Chicago:20251221T180000
DTEND;TZID=America/Chicago:20251221T190000
DTSTAMP:20260425T083636
CREATED:20251203T015826Z
LAST-MODIFIED:20251221T045208Z
UID:11136-1766340000-1766343600@fbcwttn.org
SUMMARY:PM-Children's Christmas program/Cookie fellowship
DESCRIPTION:
URL:https://fbcwttn.org/event/childrens-christmas-program-cookie-fellowship-2/
END:VEVENT
BEGIN:VEVENT
DTSTART;TZID=America/Chicago:20251214T180000
DTEND;TZID=America/Chicago:20251214T190000
DTSTAMP:20260425T083636
CREATED:20251130T035224Z
LAST-MODIFIED:20251214T034518Z
UID:11130-1765735200-1765738800@fbcwttn.org
SUMMARY:PM-Christmas cantata
DESCRIPTION:“A Child Is Born” by Glenn & Jan Christianson
URL:https://fbcwttn.org/event/pm-christmas-cantata/
END:VEVENT
BEGIN:VEVENT
DTSTART;TZID=America/Chicago:20251210T190000
DTEND;TZID=America/Chicago:20251210T200000
DTSTAMP:20260425T083636
CREATED:20251203T015712Z
LAST-MODIFIED:20251203T015712Z
UID:11134-1765393200-1765396800@fbcwttn.org
SUMMARY:Teen Christmas caroling
DESCRIPTION:
URL:https://fbcwttn.org/event/teen-christmas-caroling-2/
END:VEVENT
BEGIN:VEVENT
DTSTART;TZID=America/Chicago:20251201T183000
DTEND;TZID=America/Chicago:20251201T203000
DTSTAMP:20260425T083636
CREATED:20251130T035100Z
LAST-MODIFIED:20251130T035100Z
UID:11128-1764613800-1764621000@fbcwttn.org
SUMMARY:Ladies Christmas card making
DESCRIPTION:
URL:https://fbcwttn.org/event/ladies-christmas-card-making/
END:VEVENT
BEGIN:VEVENT
DTSTART;VALUE=DATE:20251130
DTEND;VALUE=DATE:20251201
DTSTAMP:20260425T083636
CREATED:20251116T003544Z
LAST-MODIFIED:20251116T003544Z
UID:11119-1764460800-1764547199@fbcwttn.org
SUMMARY:PM-Communion
DESCRIPTION:
URL:https://fbcwttn.org/event/pm-communion-11/
END:VEVENT
BEGIN:VEVENT
DTSTART;TZID=America/Chicago:20251129T090000
DTEND;TZID=America/Chicago:20251129T120000
DTSTAMP:20260425T083636
CREATED:20251116T003444Z
LAST-MODIFIED:20251119T230620Z
UID:11116-1764406800-1764417600@fbcwttn.org
SUMMARY:Hanging o' the Greens
DESCRIPTION:
URL:https://fbcwttn.org/event/hanging-o-the-greens-5/
END:VEVENT
BEGIN:VEVENT
DTSTART;TZID=America/Chicago:20251126T190000
DTEND;TZID=America/Chicago:20251126T200000
DTSTAMP:20260425T083636
CREATED:20251114T205147Z
LAST-MODIFIED:20251114T205147Z
UID:11111-1764183600-1764187200@fbcwttn.org
SUMMARY:Praise & Thanksgiving service
DESCRIPTION:
URL:https://fbcwttn.org/event/praise-thanksgiving-service-7/
END:VEVENT
BEGIN:VEVENT
DTSTART;VALUE=DATE:20251116
DTEND;VALUE=DATE:20251117
DTSTAMP:20260425T083636
CREATED:20251026T054248Z
LAST-MODIFIED:20251116T003518Z
UID:11093-1763251200-1763337599@fbcwttn.org
SUMMARY:PM-Annual members meeting
DESCRIPTION:
URL:https://fbcwttn.org/event/pm-annual-meeting/
END:VEVENT
BEGIN:VEVENT
DTSTART;TZID=America/Chicago:20251115T140000
DTEND;TZID=America/Chicago:20251115T160000
DTSTAMP:20260425T083636
CREATED:20251026T054216Z
LAST-MODIFIED:20251026T054216Z
UID:11091-1763215200-1763222400@fbcwttn.org
SUMMARY:Teen Bowling
DESCRIPTION:at Watertown Bowl North \nCost is $4 per game.
URL:https://fbcwttn.org/event/teen-bowling/
END:VEVENT
BEGIN:VEVENT
DTSTART;TZID=America/Chicago:20251115T080000
DTEND;TZID=America/Chicago:20251115T093000
DTSTAMP:20260425T083636
CREATED:20251102T001029Z
LAST-MODIFIED:20251102T001029Z
UID:11095-1763193600-1763199000@fbcwttn.org
SUMMARY:Men's meeting
DESCRIPTION:
URL:https://fbcwttn.org/event/mens-meeting-17/
END:VEVENT
END:VCALENDAR