BEGIN:VCALENDAR
VERSION:2.0
PRODID:-//Fellowship Baptist Church - ECPv6.15.20//NONSGML v1.0//EN
CALSCALE:GREGORIAN
METHOD:PUBLISH
X-ORIGINAL-URL:https://fbcwttn.org
X-WR-CALDESC:Events for Fellowship Baptist Church
REFRESH-INTERVAL;VALUE=DURATION:PT1H
X-Robots-Tag:noindex
X-PUBLISHED-TTL:PT1H
BEGIN:VTIMEZONE
TZID:America/Chicago
BEGIN:DAYLIGHT
TZOFFSETFROM:-0600
TZOFFSETTO:-0500
TZNAME:CDT
DTSTART:20220313T080000
END:DAYLIGHT
BEGIN:STANDARD
TZOFFSETFROM:-0500
TZOFFSETTO:-0600
TZNAME:CST
DTSTART:20221106T070000
END:STANDARD
BEGIN:DAYLIGHT
TZOFFSETFROM:-0600
TZOFFSETTO:-0500
TZNAME:CDT
DTSTART:20230312T080000
END:DAYLIGHT
BEGIN:STANDARD
TZOFFSETFROM:-0500
TZOFFSETTO:-0600
TZNAME:CST
DTSTART:20231105T070000
END:STANDARD
BEGIN:DAYLIGHT
TZOFFSETFROM:-0600
TZOFFSETTO:-0500
TZNAME:CDT
DTSTART:20240310T080000
END:DAYLIGHT
BEGIN:STANDARD
TZOFFSETFROM:-0500
TZOFFSETTO:-0600
TZNAME:CST
DTSTART:20241103T070000
END:STANDARD
BEGIN:DAYLIGHT
TZOFFSETFROM:-0600
TZOFFSETTO:-0500
TZNAME:CDT
DTSTART:20250309T080000
END:DAYLIGHT
BEGIN:STANDARD
TZOFFSETFROM:-0500
TZOFFSETTO:-0600
TZNAME:CST
DTSTART:20251102T070000
END:STANDARD
END:VTIMEZONE
BEGIN:VEVENT
DTSTART;VALUE=DATE:20240519
DTEND;VALUE=DATE:20240520
DTSTAMP:20260425T205608
CREATED:20240504T195601Z
LAST-MODIFIED:20240504T195601Z
UID:10385-1716076800-1716163199@fbcwttn.org
SUMMARY:PM-Quarterly members meeting
DESCRIPTION:
URL:https://fbcwttn.org/event/pm-quarterly-members-meeting-3/
END:VEVENT
BEGIN:VEVENT
DTSTART;TZID=America/Chicago:20240428T180000
DTEND;TZID=America/Chicago:20240428T190000
DTSTAMP:20260425T205608
CREATED:20240406T183636Z
LAST-MODIFIED:20240406T183636Z
UID:10364-1714327200-1714330800@fbcwttn.org
SUMMARY:Teen Service/Graduate Recognition
DESCRIPTION:
URL:https://fbcwttn.org/event/teen-service-graduate-recognition/
END:VEVENT
BEGIN:VEVENT
DTSTART;TZID=America/Chicago:20240421T180000
DTEND;TZID=America/Chicago:20240421T190000
DTSTAMP:20260425T205608
CREATED:20240406T183323Z
LAST-MODIFIED:20240406T183323Z
UID:10362-1713722400-1713726000@fbcwttn.org
SUMMARY:PM-Communion
DESCRIPTION:
URL:https://fbcwttn.org/event/pm-communion-4/
END:VEVENT
BEGIN:VEVENT
DTSTART;TZID=America/Chicago:20240414T093000
DTEND;TZID=America/Chicago:20240414T113000
DTSTAMP:20260425T205608
CREATED:20240406T183150Z
LAST-MODIFIED:20240406T183150Z
UID:10360-1713087000-1713094200@fbcwttn.org
SUMMARY:Missionary Jim Wright
DESCRIPTION:Jim serves with Bibles International\, a branch of Baptist Mid-Mission in Ohio.
URL:https://fbcwttn.org/event/missionary-jim-wright/
END:VEVENT
BEGIN:VEVENT
DTSTART;TZID=America/Chicago:20240331T084500
DTEND;TZID=America/Chicago:20240331T094500
DTSTAMP:20260425T205608
CREATED:20240317T000918Z
LAST-MODIFIED:20240317T000918Z
UID:10312-1711874700-1711878300@fbcwttn.org
SUMMARY:Easter Breakfast
DESCRIPTION:Pancakes & sausage breakfast from 8:45 a.m. to 9:45 a.m. \nSunday school classes will meet at 9:45 a.m. instead of 9:30 a.m.
URL:https://fbcwttn.org/event/easter-breakfast-3/
END:VEVENT
BEGIN:VEVENT
DTSTART;TZID=America/Chicago:20240223T173000
DTEND;TZID=America/Chicago:20240223T203000
DTSTAMP:20260425T205608
CREATED:20240131T152503Z
LAST-MODIFIED:20240131T152503Z
UID:10288-1708709400-1708720200@fbcwttn.org
SUMMARY:Progressive Supper
DESCRIPTION:What is a progressive supper?\n\n\n\n\n\n\n\n\n\n\nDuring a progressive supper\, one family hosts appetizers at their home and then the group transitions to someone else’s house for the next course\, like soup or salad. When it’s time for the main course\, the group progresses to the next house. The night will finish with dessert at the last person’s home.\n\n\n\n\n\n\n\nChildcare available at the church
URL:https://fbcwttn.org/event/progressive-supper/
END:VEVENT
BEGIN:VEVENT
DTSTART;TZID=America/Chicago:20240211T183000
DTEND;TZID=America/Chicago:20240211T183000
DTSTAMP:20260425T205608
CREATED:20240127T234148Z
LAST-MODIFIED:20240127T234148Z
UID:10282-1707676200-1707676200@fbcwttn.org
SUMMARY:Quarterly Members Meeting
DESCRIPTION:
URL:https://fbcwttn.org/event/quarterly-members-meeting-4/
END:VEVENT
BEGIN:VEVENT
DTSTART;TZID=America/Chicago:20240204T180000
DTEND;TZID=America/Chicago:20240204T190000
DTSTAMP:20260425T205608
CREATED:20240127T234036Z
LAST-MODIFIED:20240127T234036Z
UID:10280-1707069600-1707073200@fbcwttn.org
SUMMARY:Missionary Shae Zabel
DESCRIPTION:to the country of Slovakia\, BMM
URL:https://fbcwttn.org/event/missionary-shae-zabel/
END:VEVENT
BEGIN:VEVENT
DTSTART;TZID=America/Chicago:20240128T180000
DTEND;TZID=America/Chicago:20240128T190000
DTSTAMP:20260425T205608
CREATED:20240106T225920Z
LAST-MODIFIED:20240106T225920Z
UID:10249-1706464800-1706468400@fbcwttn.org
SUMMARY:George Mueller: Father to 10\,000
DESCRIPTION:A one-act drama written by David Madsen and performed by our Drama Ministry Team under the direction of Blaine Landowski
URL:https://fbcwttn.org/event/george-mueller-father-to-10000/
END:VEVENT
BEGIN:VEVENT
DTSTART;TZID=America/Chicago:20231231T093000
DTEND;TZID=America/Chicago:20231231T103000
DTSTAMP:20260425T205608
CREATED:20231223T175643Z
LAST-MODIFIED:20231223T175643Z
UID:10241-1704015000-1704018600@fbcwttn.org
SUMMARY:No Sunday school today
DESCRIPTION:
URL:https://fbcwttn.org/event/no-sunday-school-today-2/
END:VEVENT
BEGIN:VEVENT
DTSTART;TZID=America/Chicago:20231224T170000
DTEND;TZID=America/Chicago:20231224T180000
DTSTAMP:20260425T205608
CREATED:20231202T232512Z
LAST-MODIFIED:20231202T232512Z
UID:10221-1703437200-1703440800@fbcwttn.org
SUMMARY:Christmas Eve service
DESCRIPTION:
URL:https://fbcwttn.org/event/christmas-eve-service-7/
END:VEVENT
BEGIN:VEVENT
DTSTART;TZID=America/Chicago:20231224T093000
DTEND;TZID=America/Chicago:20231224T103000
DTSTAMP:20260425T205608
CREATED:20231223T175617Z
LAST-MODIFIED:20231223T175732Z
UID:10239-1703410200-1703413800@fbcwttn.org
SUMMARY:No Sunday school today
DESCRIPTION:
URL:https://fbcwttn.org/event/no-sunday-school-today/
END:VEVENT
BEGIN:VEVENT
DTSTART;TZID=America/Chicago:20231217T180000
DTEND;TZID=America/Chicago:20231217T190000
DTSTAMP:20260425T205608
CREATED:20231202T232448Z
LAST-MODIFIED:20231202T232448Z
UID:10219-1702836000-1702839600@fbcwttn.org
SUMMARY:Children's Christmas Program
DESCRIPTION:A cookie fellowship will follow the program downstairs.
URL:https://fbcwttn.org/event/childrens-christmas-program-3/
END:VEVENT
BEGIN:VEVENT
DTSTART;TZID=America/Chicago:20231210T180000
DTEND;TZID=America/Chicago:20231210T190000
DTSTAMP:20260425T205608
CREATED:20231202T232402Z
LAST-MODIFIED:20231202T232402Z
UID:10217-1702231200-1702234800@fbcwttn.org
SUMMARY:Christmas Cantata
DESCRIPTION:Our choir will present “Lord of Glory\,” a cantata by Dan Forrest.
URL:https://fbcwttn.org/event/christmas-cantata-2/
END:VEVENT
BEGIN:VEVENT
DTSTART;TZID=America/Chicago:20231203T180000
DTEND;TZID=America/Chicago:20231203T180000
DTSTAMP:20260425T205608
CREATED:20231202T232227Z
LAST-MODIFIED:20231202T232227Z
UID:10215-1701626400-1701626400@fbcwttn.org
SUMMARY:PM-Communion
DESCRIPTION:
URL:https://fbcwttn.org/event/pm-communion-3/
END:VEVENT
BEGIN:VEVENT
DTSTART;TZID=America/Chicago:20231202T090000
DTEND;TZID=America/Chicago:20231202T120000
DTSTAMP:20260425T205608
CREATED:20231126T002206Z
LAST-MODIFIED:20231126T002206Z
UID:10209-1701507600-1701518400@fbcwttn.org
SUMMARY:Hanging O' the Greens
DESCRIPTION:Come and help decorate the church for Christmas!
URL:https://fbcwttn.org/event/hanging-o-the-greens-3/
END:VEVENT
BEGIN:VEVENT
DTSTART;TZID=America/Chicago:20231122T190000
DTEND;TZID=America/Chicago:20231122T200000
DTSTAMP:20260425T205608
CREATED:20231119T043449Z
LAST-MODIFIED:20231119T043449Z
UID:10199-1700679600-1700683200@fbcwttn.org
SUMMARY:Praise & Thanksgiving service
DESCRIPTION:
URL:https://fbcwttn.org/event/praise-thanksgiving-service-5/
END:VEVENT
BEGIN:VEVENT
DTSTART;TZID=America/Chicago:20231029T133000
DTEND;TZID=America/Chicago:20231029T143000
DTSTAMP:20260425T205608
CREATED:20231027T204941Z
LAST-MODIFIED:20231027T204941Z
UID:10185-1698586200-1698589800@fbcwttn.org
SUMMARY:1:30 p.m. Afternoon Service today
DESCRIPTION:It will be held in lieu of the regular evening service.
URL:https://fbcwttn.org/event/130-p-m-afternoon-service-today/
END:VEVENT
BEGIN:VEVENT
DTSTART;TZID=America/Chicago:20231029T120000
DTEND;TZID=America/Chicago:20231029T130000
DTSTAMP:20260425T205608
CREATED:20231007T180033Z
LAST-MODIFIED:20231021T034118Z
UID:10167-1698580800-1698584400@fbcwttn.org
SUMMARY:Chili Luncheon following the AM services
DESCRIPTION:There will be an afternoon service following the meal at 1:30 p.m.  No evening service.
URL:https://fbcwttn.org/event/fifth-sunday-fellowship-meal/
END:VEVENT
BEGIN:VEVENT
DTSTART;TZID=America/Chicago:20231018T173000
DTEND;TZID=America/Chicago:20231018T200000
DTSTAMP:20260425T205608
CREATED:20231007T180138Z
LAST-MODIFIED:20231007T180138Z
UID:10169-1697650200-1697659200@fbcwttn.org
SUMMARY:Teens "Frantic Fall Fling"
DESCRIPTION:
URL:https://fbcwttn.org/event/teens-frantic-fall-fling-6/
END:VEVENT
BEGIN:VEVENT
DTSTART;TZID=America/Chicago:20230924T171500
DTEND;TZID=America/Chicago:20230924T175000
DTSTAMP:20260425T205608
CREATED:20230924T001426Z
LAST-MODIFIED:20230924T001426Z
UID:10155-1695575700-1695577800@fbcwttn.org
SUMMARY:Children's choir begins!
DESCRIPTION:For boys and girls who are 6-11 years old
URL:https://fbcwttn.org/event/childrens-choir-begins/
END:VEVENT
BEGIN:VEVENT
DTSTART;TZID=America/Chicago:20230924T170000
DTEND;TZID=America/Chicago:20230924T174500
DTSTAMP:20260425T205608
CREATED:20230924T001530Z
LAST-MODIFIED:20230924T001530Z
UID:10157-1695574800-1695577500@fbcwttn.org
SUMMARY:Child Protection training
DESCRIPTION:Mr. Huffstutler will be leading this session downstairs in the smaller fellowship area.
URL:https://fbcwttn.org/event/child-protection-training/
END:VEVENT
BEGIN:VEVENT
DTSTART;TZID=America/Chicago:20230924T140000
DTEND;TZID=America/Chicago:20230924T160000
DTSTAMP:20260425T205608
CREATED:20230912T010818Z
LAST-MODIFIED:20230912T010818Z
UID:10143-1695564000-1695571200@fbcwttn.org
SUMMARY:Pill wedding reception
DESCRIPTION:Taylor & Kristyn were married August 4 in Georgia.
URL:https://fbcwttn.org/event/pill-wedding-reception/
END:VEVENT
BEGIN:VEVENT
DTSTART;TZID=America/Chicago:20230920T190000
DTEND;TZID=America/Chicago:20230920T200000
DTSTAMP:20260425T205608
CREATED:20230909T150951Z
LAST-MODIFIED:20230909T150951Z
UID:10133-1695236400-1695240000@fbcwttn.org
SUMMARY:Kids4Truth resumes
DESCRIPTION:Our kids Bible program (K-grade 6) meets weekly on Wednesday evenings during the school year.
URL:https://fbcwttn.org/event/kids4truth-resumes-5/
END:VEVENT
BEGIN:VEVENT
DTSTART;TZID=America/Chicago:20230916T123000
DTEND;TZID=America/Chicago:20230916T140000
DTSTAMP:20260425T205608
CREATED:20230912T010647Z
LAST-MODIFIED:20230912T010647Z
UID:10141-1694867400-1694872800@fbcwttn.org
SUMMARY:MacDonald wedding reception
DESCRIPTION:Jake & Lydia were married August 19 in Idaho.
URL:https://fbcwttn.org/event/macdonald-wedding-reception/
END:VEVENT
BEGIN:VEVENT
DTSTART;TZID=America/Chicago:20230914T183000
DTEND;TZID=America/Chicago:20230914T200000
DTSTAMP:20260425T205608
CREATED:20230909T151101Z
LAST-MODIFIED:20230909T151101Z
UID:10135-1694716200-1694721600@fbcwttn.org
SUMMARY:Baby shower for Joy G.
DESCRIPTION:
URL:https://fbcwttn.org/event/baby-shower-for-joy-g/
END:VEVENT
BEGIN:VEVENT
DTSTART;TZID=America/Chicago:20230910T093000
DTEND;TZID=America/Chicago:20230910T120000
DTSTAMP:20260425T205608
CREATED:20230909T150801Z
LAST-MODIFIED:20230909T150801Z
UID:10131-1694338200-1694347200@fbcwttn.org
SUMMARY:Missionary Jon Rehfeldt
DESCRIPTION:The Rehfeldts are serving in Uruguay.
URL:https://fbcwttn.org/event/missionary-jon-rehfeldt/
END:VEVENT
BEGIN:VEVENT
DTSTART;TZID=America/Chicago:20230909T163000
DTEND;TZID=America/Chicago:20230909T190000
DTSTAMP:20260425T205608
CREATED:20230909T213011Z
LAST-MODIFIED:20230823T220700Z
UID:10095-1694277000-1694286000@fbcwttn.org
SUMMARY:Men & Boys Cookout
DESCRIPTION:Missionary Jonathan Rehfeldt will be our speaker.
URL:https://fbcwttn.org/event/men-boys-cookout/
END:VEVENT
BEGIN:VEVENT
DTSTART;TZID=America/Chicago:20230909T163000
DTEND;TZID=America/Chicago:20230909T190000
DTSTAMP:20260425T205608
CREATED:20230909T150644Z
LAST-MODIFIED:20230909T151158Z
UID:10129-1694277000-1694286000@fbcwttn.org
SUMMARY:Men & Boys Cookout
DESCRIPTION:Jonathan Rehfeldt will be our guest speaker.
URL:https://fbcwttn.org/event/men-boys-cookout-2/
END:VEVENT
BEGIN:VEVENT
DTSTART;TZID=America/Chicago:20230819T093000
DTEND;TZID=America/Chicago:20230819T120000
DTSTAMP:20260425T205608
CREATED:20230820T013836Z
LAST-MODIFIED:20230820T013836Z
UID:10114-1692437400-1692446400@fbcwttn.org
SUMMARY:Missionary Jonathan Rehfeldt
DESCRIPTION:Our missionary to Uruguay speaking in both the ABF hour and the morning worship service
URL:https://fbcwttn.org/event/missionary-jonathan-rehfeldt-2/
END:VEVENT
END:VCALENDAR