BEGIN:VCALENDAR
VERSION:2.0
PRODID:-//Fellowship Baptist Church - ECPv6.15.20//NONSGML v1.0//EN
CALSCALE:GREGORIAN
METHOD:PUBLISH
X-WR-CALNAME:Fellowship Baptist Church
X-ORIGINAL-URL:https://fbcwttn.org
X-WR-CALDESC:Events for Fellowship Baptist Church
REFRESH-INTERVAL;VALUE=DURATION:PT1H
X-Robots-Tag:noindex
X-PUBLISHED-TTL:PT1H
BEGIN:VTIMEZONE
TZID:America/Chicago
BEGIN:DAYLIGHT
TZOFFSETFROM:-0600
TZOFFSETTO:-0500
TZNAME:CDT
DTSTART:20240310T080000
END:DAYLIGHT
BEGIN:STANDARD
TZOFFSETFROM:-0500
TZOFFSETTO:-0600
TZNAME:CST
DTSTART:20241103T070000
END:STANDARD
BEGIN:DAYLIGHT
TZOFFSETFROM:-0600
TZOFFSETTO:-0500
TZNAME:CDT
DTSTART:20250309T080000
END:DAYLIGHT
BEGIN:STANDARD
TZOFFSETFROM:-0500
TZOFFSETTO:-0600
TZNAME:CST
DTSTART:20251102T070000
END:STANDARD
BEGIN:DAYLIGHT
TZOFFSETFROM:-0600
TZOFFSETTO:-0500
TZNAME:CDT
DTSTART:20260308T080000
END:DAYLIGHT
BEGIN:STANDARD
TZOFFSETFROM:-0500
TZOFFSETTO:-0600
TZNAME:CST
DTSTART:20261101T070000
END:STANDARD
END:VTIMEZONE
BEGIN:VEVENT
DTSTART;VALUE=DATE:20251026
DTEND;VALUE=DATE:20251027
DTSTAMP:20260425T123816
CREATED:20251008T212804Z
LAST-MODIFIED:20251025T231922Z
UID:11066-1761436800-1761523199@fbcwttn.org
SUMMARY:Anniversary Sunday Schedule...
DESCRIPTION:Fellowship turns 38 years old this year!  A carry-in dinner will follow the morning worship service.  All are welcome! \n10:30 a.m. Morning worship & 1:15 p.m. Afternoon service \nNo evening service!
URL:https://fbcwttn.org/event/anniversary-sunday-3/
END:VEVENT
BEGIN:VEVENT
DTSTART;VALUE=DATE:20251019
DTEND;VALUE=DATE:20251020
DTSTAMP:20260425T123816
CREATED:20251011T165607Z
LAST-MODIFIED:20251011T165607Z
UID:11070-1760832000-1760918399@fbcwttn.org
SUMMARY:PM-Communion
DESCRIPTION:
URL:https://fbcwttn.org/event/pm-communion-10/
END:VEVENT
BEGIN:VEVENT
DTSTART;VALUE=DATE:20251019
DTEND;VALUE=DATE:20251020
DTSTAMP:20260425T123816
CREATED:20251008T212954Z
LAST-MODIFIED:20251008T212954Z
UID:11068-1760832000-1760918399@fbcwttn.org
SUMMARY:PM-Deacons meeting
DESCRIPTION:following the evening worship service
URL:https://fbcwttn.org/event/pm-deacons-meeting/
END:VEVENT
BEGIN:VEVENT
DTSTART;TZID=America/Chicago:20251018T080000
DTEND;TZID=America/Chicago:20251018T093000
DTSTAMP:20260425T123816
CREATED:20251008T212516Z
LAST-MODIFIED:20251008T212516Z
UID:11061-1760774400-1760779800@fbcwttn.org
SUMMARY:Men's meeting
DESCRIPTION:
URL:https://fbcwttn.org/event/mens-meeting-16/
END:VEVENT
BEGIN:VEVENT
DTSTART;TZID=America/Chicago:20251015T173000
DTEND;TZID=America/Chicago:20251015T200000
DTSTAMP:20260425T123816
CREATED:20251008T212633Z
LAST-MODIFIED:20251011T165454Z
UID:11063-1760549400-1760558400@fbcwttn.org
SUMMARY:Frantic Fall Fling (Teens)
DESCRIPTION:
URL:https://fbcwttn.org/event/frantic-fall-fling-teens/
END:VEVENT
BEGIN:VEVENT
DTSTART;TZID=America/Chicago:20250917T190000
DTEND;TZID=America/Chicago:20250917T200000
DTSTAMP:20260425T123816
CREATED:20250914T024515Z
LAST-MODIFIED:20250914T024515Z
UID:11045-1758135600-1758139200@fbcwttn.org
SUMMARY:Kids4Truth resumes!
DESCRIPTION:All boys and girls from K to 6th grade are welcome to participate!
URL:https://fbcwttn.org/event/kids4truth-resumes-6/
END:VEVENT
BEGIN:VEVENT
DTSTART;TZID=America/Chicago:20250913T140000
DTEND;TZID=America/Chicago:20250913T150000
DTSTAMP:20260425T123816
CREATED:20250903T223748Z
LAST-MODIFIED:20250913T003758Z
UID:11035-1757772000-1757775600@fbcwttn.org
SUMMARY:Memorial service for Diane Regent
DESCRIPTION:Visitation will be from 1:00 p.m. to 2:00 p.m. at the church.
URL:https://fbcwttn.org/event/funeral-for-diane-regent/
END:VEVENT
BEGIN:VEVENT
DTSTART;TZID=America/Chicago:20250910T190000
DTEND;TZID=America/Chicago:20250910T200000
DTSTAMP:20260425T123816
CREATED:20250824T051853Z
LAST-MODIFIED:20250824T051853Z
UID:11029-1757530800-1757534400@fbcwttn.org
SUMMARY:Teen Time resumes
DESCRIPTION:
URL:https://fbcwttn.org/event/teen-time-resumes/
END:VEVENT
BEGIN:VEVENT
DTSTART;VALUE=DATE:20250907
DTEND;VALUE=DATE:20250908
DTSTAMP:20260425T123816
CREATED:20250903T224008Z
LAST-MODIFIED:20250903T224008Z
UID:11038-1757203200-1757289599@fbcwttn.org
SUMMARY:PM-Communion
DESCRIPTION:
URL:https://fbcwttn.org/event/pm-communion-9/
END:VEVENT
BEGIN:VEVENT
DTSTART;TZID=America/Chicago:20250906T170000
DTEND;TZID=America/Chicago:20250906T193000
DTSTAMP:20260425T123816
CREATED:20250821T141845Z
LAST-MODIFIED:20250821T141845Z
UID:11024-1757178000-1757187000@fbcwttn.org
SUMMARY:Men & Boys Cookout
DESCRIPTION:
URL:https://fbcwttn.org/event/men-boys-cookout-3/
END:VEVENT
BEGIN:VEVENT
DTSTART;VALUE=DATE:20250817
DTEND;VALUE=DATE:20250818
DTSTAMP:20260425T123816
CREATED:20250810T013201Z
LAST-MODIFIED:20250810T013201Z
UID:11003-1755388800-1755475199@fbcwttn.org
SUMMARY:PM-Quarterly members meeting
DESCRIPTION:The meeting will convene following the evening worship service.
URL:https://fbcwttn.org/event/pm-quarterly-members-meeting-5/
END:VEVENT
BEGIN:VEVENT
DTSTART;VALUE=DATE:20250817
DTEND;VALUE=DATE:20250818
DTSTAMP:20260425T123816
CREATED:20250802T235604Z
LAST-MODIFIED:20250803T051409Z
UID:10989-1755388800-1755475199@fbcwttn.org
SUMMARY:PM-Missionary Aika Okado
DESCRIPTION:Missionary to Japan with Baptist World Mission \nAika Okado \n \n 
URL:https://fbcwttn.org/event/pm-aika-okado/
END:VEVENT
BEGIN:VEVENT
DTSTART;TZID=America/Chicago:20250803T183000
DTEND;TZID=America/Chicago:20250807T203000
DTSTAMP:20260425T123816
CREATED:20250712T210919Z
LAST-MODIFIED:20250712T210937Z
UID:10964-1754245800-1754598600@fbcwttn.org
SUMMARY:Vacation Bible School - now open to 7th & 8th graders!
DESCRIPTION:Join us for supper each evening at 5:30! \n 
URL:https://fbcwttn.org/event/vacation-bible-school-now-open-to-7th-8th-graders/
END:VEVENT
BEGIN:VEVENT
DTSTART;VALUE=DATE:20250727
DTEND;VALUE=DATE:20250728
DTSTAMP:20260425T123816
CREATED:20250719T161504Z
LAST-MODIFIED:20250719T161504Z
UID:10975-1753574400-1753660799@fbcwttn.org
SUMMARY:PM-MBU Heritage Singers
DESCRIPTION:
URL:https://fbcwttn.org/event/pm-mbu-heritage-singers/
END:VEVENT
BEGIN:VEVENT
DTSTART;VALUE=DATE:20250622
DTEND;VALUE=DATE:20250623
DTSTAMP:20260425T123816
CREATED:20250601T204449Z
LAST-MODIFIED:20250601T204449Z
UID:10920-1750550400-1750636799@fbcwttn.org
SUMMARY:PM-Guthrie Farewell Fellowship
DESCRIPTION:
URL:https://fbcwttn.org/event/pm-guthrie-farewell-fellowship/
END:VEVENT
BEGIN:VEVENT
DTSTART;VALUE=DATE:20250622
DTEND;VALUE=DATE:20250623
DTSTAMP:20260425T123816
CREATED:20250601T204422Z
LAST-MODIFIED:20250601T204422Z
UID:10918-1750550400-1750636799@fbcwttn.org
SUMMARY:PM-Pastor Sean Guthrie
DESCRIPTION:
URL:https://fbcwttn.org/event/pm-pastor-sean-guthrie/
END:VEVENT
BEGIN:VEVENT
DTSTART;VALUE=DATE:20250615
DTEND;VALUE=DATE:20250616
DTSTAMP:20260425T123816
CREATED:20250608T043809Z
LAST-MODIFIED:20250608T043809Z
UID:10932-1749945600-1750031999@fbcwttn.org
SUMMARY:Father's Day
DESCRIPTION:
URL:https://fbcwttn.org/event/fathers-day/
END:VEVENT
BEGIN:VEVENT
DTSTART;VALUE=DATE:20250601
DTEND;VALUE=DATE:20250602
DTSTAMP:20260425T123816
CREATED:20250528T004049Z
LAST-MODIFIED:20250528T004049Z
UID:10910-1748736000-1748822399@fbcwttn.org
SUMMARY:AM-Jeff Davis\, EMU International
DESCRIPTION:
URL:https://fbcwttn.org/event/am-jeff-davis-emu-international/
END:VEVENT
BEGIN:VEVENT
DTSTART;VALUE=DATE:20250529
DTEND;VALUE=DATE:20250601
DTSTAMP:20260425T123816
CREATED:20250528T004010Z
LAST-MODIFIED:20250528T004010Z
UID:10908-1748476800-1748735999@fbcwttn.org
SUMMARY:Family Camp
DESCRIPTION:Camp Fairwood in Westfield\, WI \nSpeaker: Jeff Davis\, EMU International
URL:https://fbcwttn.org/event/family-camp-7/
END:VEVENT
BEGIN:VEVENT
DTSTART;TZID=America/Chicago:20250524T130000
DTEND;TZID=America/Chicago:20250524T160000
DTSTAMP:20260425T123816
CREATED:20250512T164154Z
LAST-MODIFIED:20250512T164154Z
UID:10869-1748091600-1748102400@fbcwttn.org
SUMMARY:High School Graduation Open House
DESCRIPTION:Lydia H.\, Elisabeth L.\, Meg M.\, Kaylee O.\, Samantha P.
URL:https://fbcwttn.org/event/high-school-graduation-open-house/
END:VEVENT
BEGIN:VEVENT
DTSTART;TZID=America/Chicago:20250524T080000
DTEND;TZID=America/Chicago:20250524T090000
DTSTAMP:20260425T123816
CREATED:20250524T125045Z
LAST-MODIFIED:20250524T125045Z
UID:10903-1748073600-1748077200@fbcwttn.org
SUMMARY:Men's meeting
DESCRIPTION:
URL:https://fbcwttn.org/event/mens-meeting-15/
END:VEVENT
BEGIN:VEVENT
DTSTART;TZID=America/Chicago:20250518T190000
DTEND;TZID=America/Chicago:20250518T193000
DTSTAMP:20260425T123816
CREATED:20250512T163937Z
LAST-MODIFIED:20250512T163937Z
UID:10865-1747594800-1747596600@fbcwttn.org
SUMMARY:Quarterly members meeting
DESCRIPTION:
URL:https://fbcwttn.org/event/quarterly-members-meeting-5/
END:VEVENT
BEGIN:VEVENT
DTSTART;VALUE=DATE:20250518
DTEND;VALUE=DATE:20250519
DTSTAMP:20260425T123816
CREATED:20250512T164033Z
LAST-MODIFIED:20250512T164033Z
UID:10867-1747526400-1747612799@fbcwttn.org
SUMMARY:PM-Communion
DESCRIPTION:
URL:https://fbcwttn.org/event/pm-communion-8/
END:VEVENT
BEGIN:VEVENT
DTSTART;TZID=America/Chicago:20250504T180000
DTEND;TZID=America/Chicago:20250504T190000
DTSTAMP:20260425T123816
CREATED:20250425T153719Z
LAST-MODIFIED:20250425T153719Z
UID:10845-1746381600-1746385200@fbcwttn.org
SUMMARY:PM-Teen service
DESCRIPTION:led by Joseph Greene
URL:https://fbcwttn.org/event/pm-teen-service/
END:VEVENT
BEGIN:VEVENT
DTSTART;TZID=America/Chicago:20250427T180000
DTEND;TZID=America/Chicago:20250427T190000
DTSTAMP:20260425T123816
CREATED:20250425T153636Z
LAST-MODIFIED:20250425T153636Z
UID:10843-1745776800-1745780400@fbcwttn.org
SUMMARY:PM-Graduates Recognition service
DESCRIPTION:
URL:https://fbcwttn.org/event/pm-graduates-recognition-service/
END:VEVENT
BEGIN:VEVENT
DTSTART;TZID=America/Chicago:20250420T180000
DTEND;TZID=America/Chicago:20250420T190000
DTSTAMP:20260425T123816
CREATED:20250406T001501Z
LAST-MODIFIED:20250406T001706Z
UID:10818-1745172000-1745175600@fbcwttn.org
SUMMARY:MBU Chorale
DESCRIPTION:under the direction of Peter Wright
URL:https://fbcwttn.org/event/mbu-chorale/
END:VEVENT
BEGIN:VEVENT
DTSTART;TZID=America/Chicago:20250420T093000
DTEND;TZID=America/Chicago:20250420T120000
DTSTAMP:20260425T123816
CREATED:20250406T001004Z
LAST-MODIFIED:20250406T001616Z
UID:10816-1745141400-1745150400@fbcwttn.org
SUMMARY:Missionary Andrew Minnick
DESCRIPTION:-to Bob Jones Memorial College in the Philippines \n-with Gospel Fellowship Association
URL:https://fbcwttn.org/event/missionary-andrew-minnick/
END:VEVENT
BEGIN:VEVENT
DTSTART;TZID=America/Chicago:20250420T084500
DTEND;TZID=America/Chicago:20250420T093000
DTSTAMP:20260425T123816
CREATED:20250406T000855Z
LAST-MODIFIED:20250406T000855Z
UID:10814-1745138700-1745141400@fbcwttn.org
SUMMARY:Easter Breakfast
DESCRIPTION:
URL:https://fbcwttn.org/event/easter-breakfast-4/
END:VEVENT
BEGIN:VEVENT
DTSTART;TZID=America/Chicago:20250419T090000
DTEND;TZID=America/Chicago:20250419T120000
DTSTAMP:20260425T123816
CREATED:20250413T042434Z
LAST-MODIFIED:20250413T042434Z
UID:10832-1745053200-1745064000@fbcwttn.org
SUMMARY:Church Work Day
DESCRIPTION:
URL:https://fbcwttn.org/event/church-work-day-5/
END:VEVENT
BEGIN:VEVENT
DTSTART;TZID=America/Chicago:20250416T110000
DTEND;TZID=America/Chicago:20250416T120000
DTSTAMP:20260425T123816
CREATED:20250413T042053Z
LAST-MODIFIED:20250413T042053Z
UID:10830-1744801200-1744804800@fbcwttn.org
SUMMARY:Funeral for Clarence Warren
DESCRIPTION:Visitation hours: 9:00 to 11:00 a.m. \nMemorial service: 11:00 a.m.
URL:https://fbcwttn.org/event/funeral-for-clarence-warren/
END:VEVENT
END:VCALENDAR