BEGIN:VCALENDAR
VERSION:2.0
PRODID:-//Fellowship Baptist Church - ECPv6.15.20//NONSGML v1.0//EN
CALSCALE:GREGORIAN
METHOD:PUBLISH
X-WR-CALNAME:Fellowship Baptist Church
X-ORIGINAL-URL:https://fbcwttn.org
X-WR-CALDESC:Events for Fellowship Baptist Church
REFRESH-INTERVAL;VALUE=DURATION:PT1H
X-Robots-Tag:noindex
X-PUBLISHED-TTL:PT1H
BEGIN:VTIMEZONE
TZID:America/Chicago
BEGIN:DAYLIGHT
TZOFFSETFROM:-0600
TZOFFSETTO:-0500
TZNAME:CDT
DTSTART:20240310T080000
END:DAYLIGHT
BEGIN:STANDARD
TZOFFSETFROM:-0500
TZOFFSETTO:-0600
TZNAME:CST
DTSTART:20241103T070000
END:STANDARD
BEGIN:DAYLIGHT
TZOFFSETFROM:-0600
TZOFFSETTO:-0500
TZNAME:CDT
DTSTART:20250309T080000
END:DAYLIGHT
BEGIN:STANDARD
TZOFFSETFROM:-0500
TZOFFSETTO:-0600
TZNAME:CST
DTSTART:20251102T070000
END:STANDARD
BEGIN:DAYLIGHT
TZOFFSETFROM:-0600
TZOFFSETTO:-0500
TZNAME:CDT
DTSTART:20260308T080000
END:DAYLIGHT
BEGIN:STANDARD
TZOFFSETFROM:-0500
TZOFFSETTO:-0600
TZNAME:CST
DTSTART:20261101T070000
END:STANDARD
BEGIN:DAYLIGHT
TZOFFSETFROM:-0600
TZOFFSETTO:-0500
TZNAME:CDT
DTSTART:20270314T080000
END:DAYLIGHT
BEGIN:STANDARD
TZOFFSETFROM:-0500
TZOFFSETTO:-0600
TZNAME:CST
DTSTART:20271107T070000
END:STANDARD
END:VTIMEZONE
BEGIN:VEVENT
DTSTART;TZID=America/Chicago:20251231T210000
DTEND;TZID=America/Chicago:20260101T070000
DTSTAMP:20260425T095827
CREATED:20251221T045458Z
LAST-MODIFIED:20251221T045458Z
UID:11160-1767214800-1767250800@fbcwttn.org
SUMMARY:Teens-NYE All-Nighter
DESCRIPTION:combining with Calvary Baptist\, Watertown \nCost is $40 per teen. \nParents must sign waiver with Urban Air in Waukesha.
URL:https://fbcwttn.org/event/teens-nye-all-nighter/
END:VEVENT
BEGIN:VEVENT
DTSTART;VALUE=DATE:20260104
DTEND;VALUE=DATE:20260105
DTSTAMP:20260425T095827
CREATED:20251226T001529Z
LAST-MODIFIED:20251226T001529Z
UID:11164-1767484800-1767571199@fbcwttn.org
SUMMARY:No ABF/Sunday school today
DESCRIPTION:Join us for worship at 10:30 a.m. today!
URL:https://fbcwttn.org/event/no-abf-sunday-school-today-2/
END:VEVENT
BEGIN:VEVENT
DTSTART;TZID=America/Chicago:20260114T190000
DTEND;TZID=America/Chicago:20260114T200000
DTSTAMP:20260425T095827
CREATED:20260109T175520Z
LAST-MODIFIED:20260109T175520Z
UID:11182-1768417200-1768420800@fbcwttn.org
SUMMARY:Kids4Truth resumes
DESCRIPTION:
URL:https://fbcwttn.org/event/kids4truth-resumes-7/
END:VEVENT
BEGIN:VEVENT
DTSTART;TZID=America/Chicago:20260117T080000
DTEND;TZID=America/Chicago:20260117T093000
DTSTAMP:20260425T095827
CREATED:20260109T175633Z
LAST-MODIFIED:20260109T175633Z
UID:11186-1768636800-1768642200@fbcwttn.org
SUMMARY:Men's meeting
DESCRIPTION:
URL:https://fbcwttn.org/event/mens-meeting-18/
END:VEVENT
BEGIN:VEVENT
DTSTART;TZID=America/Chicago:20260121T190000
DTEND;TZID=America/Chicago:20260121T200000
DTSTAMP:20260425T095827
CREATED:20260109T175547Z
LAST-MODIFIED:20260109T175547Z
UID:11184-1769022000-1769025600@fbcwttn.org
SUMMARY:Teen Time resumes
DESCRIPTION:
URL:https://fbcwttn.org/event/teen-time-resumes-2/
END:VEVENT
BEGIN:VEVENT
DTSTART;TZID=America/Chicago:20260131T080000
DTEND;TZID=America/Chicago:20260131T170000
DTSTAMP:20260425T095827
CREATED:20260201T042035Z
LAST-MODIFIED:20260201T042035Z
UID:11273-1769846400-1769878800@fbcwttn.org
SUMMARY:"The Life of Gladys Aylward" @ Watertown Players Theatre
DESCRIPTION:FBC’s Drama Ministry Team will present a one-act drama on the life of Gladys Aylward\, a British missionary to China in the mid-twentieth century.
URL:https://fbcwttn.org/event/the-life-of-gladys-aylward-watertown-players-theatre-2/
END:VEVENT
END:VCALENDAR